BEGIN:VCALENDAR
VERSION:2.0
PRODID:-//hacksw/handcal//NONSGML v1.0//EN
BEGIN:VEVENT
SUMMARY:Championnat Seniors R2
UID:e07aca33-3d9a-4587-bf0a-9ce6d48b5257
DTSTART:20260418T160000Z
DTEND:20260418T220000Z
LOCATION:Localisation   
CATEGORIES:Sportif
STATUS:
URL;VALUE=URI:https://www.smocfoot.net/evenements/2026/04/18/championnat-seniors-r2-2442727
END:VEVENT
END:VCALENDAR
