BEGIN:VCALENDAR
VERSION:2.0
PRODID:-//hacksw/handcal//NONSGML v1.0//EN
BEGIN:VEVENT
SUMMARY:Championnat Seniors Departemental 3
UID:fa2dd097-1add-4f72-b86d-01fcb25cb7e6
DTSTART:20260419T130000Z
DTEND:20260419T220000Z
LOCATION:Localisation   
CATEGORIES:Sportif
STATUS:
URL;VALUE=URI:https://www.smocfoot.net/evenements/2026/04/19/championnat-seniors-departemental-3-2442732
END:VEVENT
END:VCALENDAR
