BEGIN:VCALENDAR
VERSION:2.0
PRODID:-//hacksw/handcal//NONSGML v1.0//EN
BEGIN:VEVENT
SUMMARY:FOOT LOISIRS
UID:c111e17e-30c6-469a-b073-c90b095cc12b
DTSTART:20260424T191500Z
DTEND:20260424T220000Z
LOCATION:SMOC Football Rue du petit bois 45800 Saint jean de braye
CATEGORIES:Sportif
STATUS:
URL;VALUE=URI:https://www.smocfoot.net/evenements/2026/04/24/foot-loisirs-2444604
END:VEVENT
END:VCALENDAR
