BEGIN:VCALENDAR
VERSION:2.0
PRODID:-//hacksw/handcal//NONSGML v1.0//EN
BEGIN:VEVENT
SUMMARY:Championnat Seniors D1 Myteam-Foot Fr
UID:66f09a69-0854-454e-8375-ad24a2775f0b
DTSTART:20260425T180000Z
DTEND:20260425T180000Z
LOCATION:SMOC Football Rue du petit bois 45800 Saint jean de braye
CATEGORIES:Sportif
STATUS:
URL;VALUE=URI:https://www.smocfoot.net/evenements/2026/04/25/championnat-seniors-d1-myteam-foot-fr-2444607
END:VEVENT
END:VCALENDAR
